BEGIN:VCALENDAR
VERSION:2.0
PRODID:SchoolNow
CALSCALE:GREGORIAN
BEGIN:VEVENT
UID:8a56b044-c57c-11f0-867b-025da0cf94e5
DTSTAMP:20251119T192638Z
SUMMARY:CDD Board Meeting - Oct. 2025
LOCATION:the Offices of Inframark located at 2005 Pan Am Circle\, Suite 300
 \, Tampa\, FL 33607
URL;VALUE=URI:https://www.balmgrovecdd.com/calendar/8804216/cdd-board-meeti
 ng-oct-2025
DTSTART:20251002T180000Z
DTEND:20251002T190000Z
END:VEVENT
END:VCALENDAR
