BEGIN:VCALENDAR
VERSION:2.0
PRODID:SchoolNow
CALSCALE:GREGORIAN
BEGIN:VEVENT
UID:9e081ede-c57c-11f0-84de-0a58a9feac02
DTSTAMP:20260402T152841Z
SUMMARY:CDD Board Meeting - Nov. 2025
LOCATION:the Offices of Inframark located at 2005 Pan Am Circle\, Suite 300
 \, Tampa\, FL 33607
URL;VALUE=URI:https://www.balmgrovecdd.com/calendar/8804217/cdd-board-meeti
 ng-nov-2025
DTSTART:20251106T190000Z
DTEND:20251106T200000Z
ATTACH;FILENAME=2025-11-06 - Balm Grove CDD - Agenda Package.pdf;FMTTYPE=ap
 plication/pdf:https://campussuite-storage.s3.amazonaws.com/prod/1559301/a0
 a58378-ba7f-11f0-8923-0afff3d351ff/3086293/37d99274-2ea8-11f1-95b1-0a58a9f
 eac02/file/2025-11-06 - Balm Grove CDD - Agenda Package.pdf
END:VEVENT
END:VCALENDAR
