BEGIN:VCALENDAR
VERSION:2.0
PRODID:SchoolNow
CALSCALE:GREGORIAN
BEGIN:VEVENT
UID:a5a23e22-c57c-11f0-8200-0afff9ea838f
DTSTAMP:20260402T151834Z
SUMMARY:CDD Board Meeting - Dec. 2025
LOCATION:the Offices of Inframark located at 2005 Pan Am Circle\, Suite 300
 \, Tampa\, FL 33607
URL;VALUE=URI:https://www.balmgrovecdd.com/calendar/8804218/cdd-board-meeti
 ng-dec-2025
DTSTART:20251204T190000Z
DTEND:20251204T200000Z
ATTACH;FILENAME=2025-12-04 Balm Grove Agenda.pdf;FMTTYPE=application/pdf:ht
 tps://campussuite-storage.s3.amazonaws.com/prod/1559301/a0a58378-ba7f-11f0
 -8923-0afff3d351ff/3047398/3f4ce5bc-d136-11f0-8cca-0affd2aab8c5/file/2025-
 12-04 Balm Grove Agenda.pdf
END:VEVENT
END:VCALENDAR
