BEGIN:VCALENDAR
VERSION:2.0
PRODID:SchoolNow
CALSCALE:GREGORIAN
BEGIN:VEVENT
UID:af72b404-c57c-11f0-b833-0affe72d166b
DTSTAMP:20260402T151938Z
SUMMARY:CDD Board Meeting - Jan. 2026
LOCATION:the Offices of Inframark located at 2005 Pan Am Circle\, Suite 300
 \, Tampa\, FL 33607
URL;VALUE=URI:https://www.balmgrovecdd.com/calendar/8804219/cdd-board-meeti
 ng-jan-2026
DTSTART:20260108T190000Z
DTEND:20260108T200000Z
ATTACH;FILENAME=2026-01-08 Balm Grove Agenda.pdf;FMTTYPE=application/pdf:ht
 tps://campussuite-storage.s3.amazonaws.com/prod/1559301/a0a58378-ba7f-11f0
 -8923-0afff3d351ff/3086288/5a079d10-2ea7-11f1-8077-0a58a9feac02/file/2026-
 01-08 Balm Grove Agenda.pdf
END:VEVENT
END:VCALENDAR
