BEGIN:VCALENDAR
VERSION:2.0
PRODID:SchoolNow
CALSCALE:GREGORIAN
BEGIN:VEVENT
UID:b7f624ee-c57c-11f0-a5c1-0a58a9feac02
DTSTAMP:20260402T152818Z
SUMMARY:CDD Board Meeting - Feb. 2026
LOCATION:the Offices of Inframark located at 2005 Pan Am Circle\, Suite 300
 \, Tampa\, FL 33607
URL;VALUE=URI:https://www.balmgrovecdd.com/calendar/8804220/cdd-board-meeti
 ng-feb-2026
DTSTART:20260205T190000Z
DTEND:20260205T200000Z
ATTACH;FILENAME=2026-02-05 - Balm Grove CDD - Agenda Package.pdf;FMTTYPE=ap
 plication/pdf:https://campussuite-storage.s3.amazonaws.com/prod/1559301/a0
 a58378-ba7f-11f0-8923-0afff3d351ff/3086292/37d98f36-2ea8-11f1-9ba5-0a58a9f
 eac02/file/2026-02-05 - Balm Grove CDD - Agenda Package.pdf
END:VEVENT
END:VCALENDAR
