BEGIN:VCALENDAR
VERSION:2.0
PRODID:SchoolNow
CALSCALE:GREGORIAN
BEGIN:VEVENT
UID:c91d5512-c57c-11f0-bf54-02343ccddbd9
DTSTAMP:20251119T192512Z
SUMMARY:CDD Board Meeting - Apr. 2026
LOCATION:the Offices of Inframark located at 2005 Pan Am Circle\, Suite 300
 \, Tampa\, FL 33607
URL;VALUE=URI:https://www.balmgrovecdd.com/calendar/8804222/cdd-board-meeti
 ng-mar-2026-clone
DTSTART:20260402T180000Z
DTEND:20260402T190000Z
END:VEVENT
END:VCALENDAR
