BEGIN:VCALENDAR
VERSION:2.0
PRODID:SchoolNow
CALSCALE:GREGORIAN
BEGIN:VEVENT
UID:dc88e88c-c57c-11f0-84c4-02af76d80f6f
DTSTAMP:20251119T192603Z
SUMMARY:CDD Board Meeting - Jun. 2026
LOCATION:the Offices of Inframark located at 2005 Pan Am Circle\, Suite 300
 \, Tampa\, FL 33607
URL;VALUE=URI:https://www.balmgrovecdd.com/calendar/8804224/cdd-board-meeti
 ng-jun-2026
DTSTART:20260604T180000Z
DTEND:20260604T190000Z
END:VEVENT
END:VCALENDAR
