BEGIN:VCALENDAR
VERSION:2.0
PRODID:SchoolNow
CALSCALE:GREGORIAN
BEGIN:VEVENT
UID:e625402a-c57c-11f0-a74a-0a58a9feac02
DTSTAMP:20251119T192557Z
SUMMARY:CDD Board Meeting - Jul. 2026
LOCATION:the Offices of Inframark located at 2005 Pan Am Circle\, Suite 300
 \, Tampa\, FL 33607
URL;VALUE=URI:https://www.balmgrovecdd.com/calendar/8804225/cdd-board-meeti
 ng-jul-2026
DTSTART:20260702T180000Z
DTEND:20260702T190000Z
END:VEVENT
END:VCALENDAR
