BEGIN:VCALENDAR
VERSION:2.0
PRODID:SchoolNow
CALSCALE:GREGORIAN
BEGIN:VEVENT
UID:ef8906ec-c57c-11f0-a650-02ea71babd91
DTSTAMP:20251119T192616Z
SUMMARY:CDD Board Meeting - Aug. 2026
LOCATION:the Offices of Inframark located at 2005 Pan Am Circle\, Suite 300
 \, Tampa\, FL 33607
URL;VALUE=URI:https://www.balmgrovecdd.com/calendar/8804226/cdd-board-meeti
 ng-aug-2026
DTSTART:20260806T180000Z
DTEND:20260806T190000Z
END:VEVENT
END:VCALENDAR
