BEGIN:VCALENDAR
VERSION:2.0
PRODID:SchoolNow
CALSCALE:GREGORIAN
BEGIN:VEVENT
UID:bb573252-2ea6-11f1-bbd5-0a58a9feac02
DTSTAMP:20260402T151506Z
SUMMARY:CDD Board Meeting - Sept. 2025
LOCATION:the Offices of Inframark located at 2005 Pan Am Circle\, Suite 300
 \, Tampa\, FL 33607
URL;VALUE=URI:https://www.balmgrovecdd.com/calendar/8966112/cdd-board-meeti
 ng-sept-2025
DTSTART:20250904T180000Z
DTEND:20250904T190000Z
ATTACH;FILENAME=2025-09-04 Balm Grove Agenda.pdf;FMTTYPE=application/pdf:ht
 tps://campussuite-storage.s3.amazonaws.com/prod/1559301/a0a58378-ba7f-11f0
 -8923-0afff3d351ff/3038559/20fa95d0-c175-11f0-8294-0e927d5bc80f/file/2025-
 09-04 Balm Grove Agenda.pdf
END:VEVENT
END:VCALENDAR
